{"text_format":"1","workbook":"xlsx","n_sheets":3,"sheets":["Ark1","poeng","Verdi"],"not_rendered":{"charts":0,"images":0,"macros":1,"external_links":0,"defined_names":0,"comments":0,"pivot_tables":0},"unopened":[],"bounds":{"document_bytes":16777216,"sheet_cells":100000,"rows_first":2000,"rows_last":500,"rows_between":2000,"halvings":0,"cell_chars":16384,"cell_head_chars":4096},"cells_cut":0,"cells_raw":0,"read":"whole","date_system":"1900"}

{"sheet":"Ark1","index":0,"n_rows":10,"n_cols":22,"rows_kept":10,"cut":false,"hidden":false,"merged":[[2,20,2,21],[2,18,2,19],[0,0,0,17],[2,10,2,11],[2,12,2,13],[2,14,2,15],[2,16,2,17]]}
["Sørlandscupen 2023"]
[]
[null,null,null,null,null,null,null,null,null,null,"Solheimsvann",null,"Lille Moland",null,"Moland",null,"Selås",null,"Skjærse",null,"Vallekilen"]
["Ranking","Fornavn","Etternavn",1,2,3,4,5,6,"4 tellende","Plass","Poeng","Plass","Poeng","Plass","Poeng","Plass","Poeng","Plass","Poeng","Plass","Poeng"]
[1,"Bence Püspök ",null,{"$f":"L5","v":20},{"$f":"N5","v":20},{"$f":"P5","v":20},20,{"$f":"T5","v":18},null,80,1,{"$f":"VLOOKUP(K5,poeng!$A:$B,2,FALSE)","v":20},1,{"$f":"VLOOKUP(M5,poeng!$A:$B,2,FALSE)","v":20},1,{"$f":"VLOOKUP(O5,poeng!$A:$B,2,FALSE)","v":20},1,{"$f":"VLOOKUP(Q5,poeng!$A:$B,2,FALSE)","v":20},3,{"$f":"VLOOKUP(S5,poeng!$A:$B,2,FALSE)","v":18},null,{"$f":"VLOOKUP(U5,poeng!$A:$B,2,FALSE)","v":0}]
[2,"Gergő Püspök",null,{"$f":"L6","v":17},19,18,19,20,null,{"$f":"E6+F6+G6+H6","v":76},4,{"$f":"VLOOKUP(K6,poeng!$A:$B,2,FALSE)","v":17},2,{"$f":"VLOOKUP(M6,poeng!$A:$B,2,FALSE)","v":19},3,{"$f":"VLOOKUP(O6,poeng!$A:$B,2,FALSE)","v":18},2,{"$f":"VLOOKUP(Q6,poeng!$A:$B,2,FALSE)","v":19},1,{"$f":"VLOOKUP(S6,poeng!$A:$B,2,FALSE)","v":20},null,{"$f":"VLOOKUP(U6,poeng!$A:$B,2,FALSE)","v":0}]
[3,"Mats Bodal",null,{"$f":"L7","v":18},18,19,18,19,null,{"$f":"D7+E7+F7+H7","v":74},3,{"$f":"VLOOKUP(K7,poeng!$A:$B,2,FALSE)","v":18},3,{"$f":"VLOOKUP(M7,poeng!$A:$B,2,FALSE)","v":18},2,{"$f":"VLOOKUP(O7,poeng!$A:$B,2,FALSE)","v":19},3,{"$f":"VLOOKUP(Q7,poeng!$A:$B,2,FALSE)","v":18},2,{"$f":"VLOOKUP(S7,poeng!$A:$B,2,FALSE)","v":19},null,{"$f":"VLOOKUP(U7,poeng!$A:$B,2,FALSE)","v":0}]
[4,"Elias Svenningsen",null,{"$f":"L8","v":0},17,17,17,0,null,{"$f":"SUM(D8:H8)","v":51},0,{"$f":"VLOOKUP(K8,poeng!$A:$B,2,FALSE)","v":0},4,{"$f":"VLOOKUP(M8,poeng!$A:$B,2,FALSE)","v":17},4,{"$f":"VLOOKUP(O8,poeng!$A:$B,2,FALSE)","v":17},4,{"$f":"VLOOKUP(Q8,poeng!$A:$B,2,FALSE)","v":17},null,{"$f":"VLOOKUP(S8,poeng!$A:$B,2,FALSE)","v":0},null,{"$f":"VLOOKUP(U8,poeng!$A:$B,2,FALSE)","v":0}]
[5,"Jakob Alne",null,{"$f":"L9","v":19},0,0,0,0,null,{"$f":"SUM(D9:H9)","v":19},2,{"$f":"VLOOKUP(K9,poeng!$A:$B,2,FALSE)","v":19},null,{"$f":"VLOOKUP(M9,poeng!$A:$B,2,FALSE)","v":0},null,{"$f":"VLOOKUP(O9,poeng!$A:$B,2,FALSE)","v":0},null,{"$f":"VLOOKUP(Q9,poeng!$A:$B,2,FALSE)","v":0},null,{"$f":"VLOOKUP(S9,poeng!$A:$B,2,FALSE)","v":0},null,{"$f":"VLOOKUP(U9,poeng!$A:$B,2,FALSE)","v":0}]
[6,"Jonas Olimstad",null,16,0,0,0,0,null,{"$f":"SUM(D10:H10)","v":16},0,{"$f":"VLOOKUP(K10,poeng!$A:$B,2,FALSE)","v":0},null,{"$f":"VLOOKUP(M10,poeng!$A:$B,2,FALSE)","v":0},null,{"$f":"VLOOKUP(O10,poeng!$A:$B,2,FALSE)","v":0},5,{"$f":"VLOOKUP(Q10,poeng!$A:$B,2,FALSE)","v":16},null,{"$f":"VLOOKUP(S10,poeng!$A:$B,2,FALSE)","v":0},null,{"$f":"VLOOKUP(U10,poeng!$A:$B,2,FALSE)","v":0}]

{"sheet":"poeng","index":1,"n_rows":43,"n_cols":2,"rows_kept":43,"cut":false,"hidden":false,"merged":[]}
[0,0]
[1,20]
[2,19]
[3,18]
[4,17]
[5,16]
[6,15]
[7,14]
[8,13]
[9,12]
[10,11]
[11,10]
[12,9]
[13,8]
[14,7]
[15,6]
[16,5]
[17,4]
[18,3]
[19,2]
[20,1]
[21,0]
[22,0]
[23,0]
[24,0]
[25,0]
[26,0]
[27,0]
[28,3]
[29,2]
[30,1]
[31,0]
[32,0]
[33,0]
[34,0]
[35,0]
[36,0]
[37,0]
[38,0]
[39,0]
[40,0]
["Øvrige",0]
[null,0]

{"sheet":"Verdi","index":2,"n_rows":23,"n_cols":4,"rows_kept":23,"cut":false,"hidden":false,"merged":[]}
[]
["Verdi per konkurranse"]
[1,1,null,{"$f":"100%/15","v":6.6666666666666666E-2}]
[2,1]
[3,1]
[4,1]
[5,1]
[6,1]
[7,1]
[8,0.75]
[9,0.75]
[10,0.75]
[11,0.75]
[12,0.75]
[13,0.75]
[14,0.5]
[15,0.5]
[16,0.5]
[17,0.5]
[18,1]
[19,1]
[20,1]
[21,0.5]